BEGIN:VCALENDAR
VERSION:2.0
PRODID:Events Booking
BEGIN:VEVENT
UID:69e9f055dfdf2
SUMMARY:Old Escondido Historic District Clean-Up
DESCRIPTION:The Old Escondido Historic District's annual neighborhood clean
  up and Trash to Treasures rummage sale is back!
LOCATION:561 E 7th Ave\, Escondido\, CA 92025\, USA
DTSTART:20240420T150000Z
DTEND:20240420T190000Z
DTSTAMP:20240309T072511Z
ORGANIZER;CN=Brothers Of 6:MAILTO:info@brothersof6.org
GEO:33.118912;-117.071938
X-APPLE-STRUCTURED-LOCATION;VALUE=URI;X-ADDRESS=561 E 7th Ave\, Escondido\,
  CA 92025\, USA;X-APPLE-RADIUS=72;X-TITLE=Old Escondido Historic District:
 33.118912;-117.071938
END:VEVENT
END:VCALENDAR